BEGIN:VCALENDAR
VERSION:2.0
PRODID:-//Brad Creel &amp; The Reel Deel - ECPv6.15.18//NONSGML v1.0//EN
CALSCALE:GREGORIAN
METHOD:PUBLISH
X-ORIGINAL-URL:https://bradcreel.com
X-WR-CALDESC:Events for Brad Creel &amp; The Reel Deel
REFRESH-INTERVAL;VALUE=DURATION:PT1H
X-Robots-Tag:noindex
X-PUBLISHED-TTL:PT1H
BEGIN:VTIMEZONE
TZID:America/Los_Angeles
BEGIN:DAYLIGHT
TZOFFSETFROM:-0800
TZOFFSETTO:-0700
TZNAME:PDT
DTSTART:20200308T100000
END:DAYLIGHT
BEGIN:STANDARD
TZOFFSETFROM:-0700
TZOFFSETTO:-0800
TZNAME:PST
DTSTART:20201101T090000
END:STANDARD
BEGIN:DAYLIGHT
TZOFFSETFROM:-0800
TZOFFSETTO:-0700
TZNAME:PDT
DTSTART:20210314T100000
END:DAYLIGHT
BEGIN:STANDARD
TZOFFSETFROM:-0700
TZOFFSETTO:-0800
TZNAME:PST
DTSTART:20211107T090000
END:STANDARD
BEGIN:DAYLIGHT
TZOFFSETFROM:-0800
TZOFFSETTO:-0700
TZNAME:PDT
DTSTART:20220313T100000
END:DAYLIGHT
BEGIN:STANDARD
TZOFFSETFROM:-0700
TZOFFSETTO:-0800
TZNAME:PST
DTSTART:20221106T090000
END:STANDARD
BEGIN:DAYLIGHT
TZOFFSETFROM:-0800
TZOFFSETTO:-0700
TZNAME:PDT
DTSTART:20230312T100000
END:DAYLIGHT
BEGIN:STANDARD
TZOFFSETFROM:-0700
TZOFFSETTO:-0800
TZNAME:PST
DTSTART:20231105T090000
END:STANDARD
BEGIN:DAYLIGHT
TZOFFSETFROM:-0800
TZOFFSETTO:-0700
TZNAME:PDT
DTSTART:20240310T100000
END:DAYLIGHT
BEGIN:STANDARD
TZOFFSETFROM:-0700
TZOFFSETTO:-0800
TZNAME:PST
DTSTART:20241103T090000
END:STANDARD
END:VTIMEZONE
BEGIN:VEVENT
DTSTART;TZID=America/Los_Angeles:20231021T150000
DTEND;TZID=America/Los_Angeles:20231021T200000
DTSTAMP:20260425T092720
CREATED:20230828T200458Z
LAST-MODIFIED:20230828T200458Z
UID:680-1697900400-1697918400@bradcreel.com
SUMMARY:Octaborfest (Lava lamp Country digital album release party)!
DESCRIPTION:Join us at the first annual Octaboerfest for the digital release of our latest album\, Lava Lamp Country! Octaborfest is an Octoberfest celebration in the Mt. Tabor Presbyterian Church (aka Taborspace). We will be performing within a lineup of five other bands of world music. The gig goes from 3-8 and we will be performing for an hour at 7. Food\, beer\, and live music in the sanctuary of this historic old stone church! This show is all ages and is also a fundraiser for the neighborhood Glencoe and Atkinson Elementary schools.
URL:https://bradcreel.com/event/octaborfest-lava-lamp-country-digital-album-release-party/
LOCATION:Taborspace\, 5441 SE Belmont St\, Portland\, OR\, 97215\, United States
END:VEVENT
BEGIN:VEVENT
DTSTART;TZID=America/Los_Angeles:20231013T190000
DTEND;TZID=America/Los_Angeles:20231013T210000
DTSTAMP:20260425T092720
CREATED:20230828T195028Z
LAST-MODIFIED:20230828T195028Z
UID:678-1697223600-1697230800@bradcreel.com
SUMMARY:Private Party
DESCRIPTION:Private party in Manzanita!
URL:https://bradcreel.com/event/private-party/
LOCATION:OR
END:VEVENT
BEGIN:VEVENT
DTSTART;TZID=America/Los_Angeles:20230915T160000
DTEND;TZID=America/Los_Angeles:20230915T190000
DTSTAMP:20260425T092720
CREATED:20230320T063122Z
LAST-MODIFIED:20230320T063122Z
UID:668-1694793600-1694804400@bradcreel.com
SUMMARY:Manzanita Farmers Market
DESCRIPTION:Back at this beautiful market by the beach!
URL:https://bradcreel.com/event/manzanita-farmers-market-2/
LOCATION:Manzanita Farmer Market\, 635 Manzanita Ave\, Manzanita\, OR\, 97130
END:VEVENT
BEGIN:VEVENT
DTSTART;TZID=America/Los_Angeles:20230722T190000
DTEND;TZID=America/Los_Angeles:20230722T210000
DTSTAMP:20260425T092720
CREATED:20230224T195742Z
LAST-MODIFIED:20230224T195800Z
UID:661-1690052400-1690059600@bradcreel.com
SUMMARY:Brad Creel & the Reel Deel at Freja Cellars Winery
DESCRIPTION:Playing 2 sets outdoors at this beautiful vineyard.
URL:https://bradcreel.com/event/brad-creel-the-reel-deel-at-freja-cellars-winery/
LOCATION:Freja Cellars\, 16691 SW McFee Pl 16691 SW McFee Pl\,\, Hillsboro\, OR\, 97123\, United States
END:VEVENT
BEGIN:VEVENT
DTSTART;TZID=America/Los_Angeles:20221204T150000
DTEND;TZID=America/Los_Angeles:20221204T170000
DTSTAMP:20260425T092720
CREATED:20220921T031932Z
LAST-MODIFIED:20221028T225621Z
UID:571-1670166000-1670173200@bradcreel.com
SUMMARY:Brad Creel Album Release Show with Joshua English!
DESCRIPTION:Brad Creel & the Reel Deel are finally going to release their fourth CD\, “Lava Lamp Country”. This is an all ages show! Joshua English and his band to open. Come Celebrate and get yourself a free CD (or sticker) with the $10. admission. Get your tix early\, this show is likely to sell out: https://event.etix.com/ticket/online/performanceSale.do?performance_id=2914730&method=restoreToken
URL:https://bradcreel.com/event/cd-release-show/
LOCATION:the White Eagle\, 836 N. Russell St.\, Portland\, OR\, 97227
END:VEVENT
BEGIN:VEVENT
DTSTART;TZID=America/Los_Angeles:20220918T150000
DTEND;TZID=America/Los_Angeles:20220918T170000
DTSTAMP:20260425T092720
CREATED:20220908T025653Z
LAST-MODIFIED:20220908T025833Z
UID:566-1663513200-1663520400@bradcreel.com
SUMMARY:Taborspace Re-Opening Celebration (Outdoors on the lawn!)
DESCRIPTION:Come out for the third annual Mt. Tabor Presbyterian Church outdoor concert. This is a free\, all ages\, family event. Bring a blanket and sprawl out on the lawn behind the church. Opening will be local solo artist Joshua English and the bluegrass band\, Misty Mamas. This concert is a community fundraiser for the elementary schools\, Glencoe\, Bridger\, and Atkinson.
URL:https://bradcreel.com/event/taborspace-re-opening-celebration-outdoors/
LOCATION:Taborspace\, 5441 SE Belmont St\, Portland\, OR\, 97215\, United States
END:VEVENT
BEGIN:VEVENT
DTSTART;TZID=America/Los_Angeles:20220819T160000
DTEND;TZID=America/Los_Angeles:20220819T190000
DTSTAMP:20260425T092720
CREATED:20220320T200223Z
LAST-MODIFIED:20220320T200641Z
UID:532-1660924800-1660935600@bradcreel.com
SUMMARY:Manzanita Farmers Market
DESCRIPTION:Sun\, surf\, art\, food\, bleach blonds\, and Birkenstocks… doesn’t get any better!
URL:https://bradcreel.com/event/manzanita-farmers-market/
LOCATION:OR
END:VEVENT
BEGIN:VEVENT
DTSTART;TZID=America/Los_Angeles:20220723T213000
DTEND;TZID=America/Los_Angeles:20220723T233000
DTSTAMP:20260425T092720
CREATED:20220225T202701Z
LAST-MODIFIED:20220225T203204Z
UID:519-1658611800-1658619000@bradcreel.com
SUMMARY:Kasino Club (Idaho)
DESCRIPTION:Playing a second night at Kasino Club!
URL:https://bradcreel.com/event/kasino-club-idaho-2/
LOCATION:OR
END:VEVENT
BEGIN:VEVENT
DTSTART;TZID=America/Los_Angeles:20220722T213000
DTEND;TZID=America/Los_Angeles:20220722T233000
DTSTAMP:20260425T092720
CREATED:20220225T202453Z
LAST-MODIFIED:20220225T203231Z
UID:517-1658525400-1658532600@bradcreel.com
SUMMARY:Kasino Club (Idaho)
DESCRIPTION:Playing 3 sets at this classic western bar!
URL:https://bradcreel.com/event/kasino-club-idaho/
LOCATION:OR
END:VEVENT
BEGIN:VEVENT
DTSTART;TZID=America/Los_Angeles:20220721T193000
DTEND;TZID=America/Los_Angeles:20220721T220000
DTSTAMP:20260425T092720
CREATED:20220225T203913Z
LAST-MODIFIED:20220225T203913Z
UID:523-1658431800-1658440800@bradcreel.com
SUMMARY:Stanley Street Dance (Idaho)
DESCRIPTION:Playing outside in the shadow of the Sawtooths!
URL:https://bradcreel.com/event/stanley-street-dance-idaho/
LOCATION:OR
END:VEVENT
BEGIN:VEVENT
DTSTART;TZID=America/Los_Angeles:20220719T190000
DTEND;TZID=America/Los_Angeles:20220719T213000
DTSTAMP:20260425T092720
CREATED:20220225T200905Z
LAST-MODIFIED:20220225T202122Z
UID:511-1658257200-1658266200@bradcreel.com
SUMMARY:Ketchum Alive (Idaho)
DESCRIPTION:Ketchum Alive is an all ages street dance in this beautiful Idaho town.
URL:https://bradcreel.com/event/ketchum-alive/
LOCATION:OR
END:VEVENT
BEGIN:VEVENT
DTSTART;TZID=America/Los_Angeles:20220626T063000
DTEND;TZID=America/Los_Angeles:20220626T203000
DTSTAMP:20260425T092720
CREATED:20220301T045605Z
LAST-MODIFIED:20220301T045605Z
UID:529-1656225000-1656275400@bradcreel.com
SUMMARY:Seaside Brewing
DESCRIPTION:Back at Seaside Brewing in the vast outdoor space
URL:https://bradcreel.com/event/seaside-brewing/
LOCATION:seaside brewing
END:VEVENT
BEGIN:VEVENT
DTSTART;TZID=America/Los_Angeles:20220511T210000
DTEND;TZID=America/Los_Angeles:20220511T230000
DTSTAMP:20260425T092720
CREATED:20220503T201310Z
LAST-MODIFIED:20220503T201310Z
UID:536-1652302800-1652310000@bradcreel.com
SUMMARY:Laurelthirst with Rough Diamonds
DESCRIPTION:We will be playing the Thirst with my buddy Jason Wallis aka Rough Diamonds.
URL:https://bradcreel.com/event/laurelthirst-with-rough-diamonds/
LOCATION:Laurelthirst
END:VEVENT
BEGIN:VEVENT
DTSTART;TZID=America/Los_Angeles:20220318T180000
DTEND;TZID=America/Los_Angeles:20220318T210000
DTSTAMP:20260425T092720
CREATED:20220301T045354Z
LAST-MODIFIED:20220301T045354Z
UID:526-1647626400-1647637200@bradcreel.com
SUMMARY:Solo at Leikam Brewing
DESCRIPTION:Parents night out! This is a fundraiser for the Glencoe Foundation and I will be performing solo along  with the talented Joshua English.
URL:https://bradcreel.com/event/solo-at-leikam-brewing/
LOCATION:Leikam Brewing
END:VEVENT
BEGIN:VEVENT
DTSTART;TZID=America/Los_Angeles:20220227T180000
DTEND;TZID=America/Los_Angeles:20220227T200000
DTSTAMP:20260425T092720
CREATED:20211116T020822Z
LAST-MODIFIED:20211116T020822Z
UID:502-1645984800-1645992000@bradcreel.com
SUMMARY:Live at Seaside Brewery
DESCRIPTION:Ocean foam and beer foam in one day\, doesn’t get any better!
URL:https://bradcreel.com/event/live-at-seaside-brewery/
LOCATION:seaside brewing
END:VEVENT
BEGIN:VEVENT
DTSTART;TZID=America/Los_Angeles:20220129T200000
DTEND;TZID=America/Los_Angeles:20220129T230000
DTSTAMP:20260425T092720
CREATED:20211116T020435Z
LAST-MODIFIED:20220101T195202Z
UID:500-1643486400-1643497200@bradcreel.com
SUMMARY:At the Alberta St. Pub with PDX Crime Syndicate and Rough Diamond
DESCRIPTION:Great food\, drinks\, and the best sound in town! \nPDX Crime Syndicate:\nThe PDX Crime Syndicate  features  Eric Lawrence\,  Eric Mosbarger and Matt Johnson; members of Portland’s rock and roll sensation\, MEEEB. No fingerprints. \nRough Diamond:\nThe Rough Diamonds are currently a duo comprised of singer songwriter Jason Wallis and multi-instrumentalist Eric Shirazi. The songs are haunted by the ghosts of Hank Williams and Buddy Holly and the sounds harken back to rockabilly\, Nashville Skline Era Dylan\, and early Wilco. Driving rhythms\, lilting melodies\, and sharp lyrics are woven into a roots based acoustic tapestry.
URL:https://bradcreel.com/event/live-at-the-alberta-street-pub/
LOCATION:alberta street Pub\, 1036 NE Alberta St.\, Portand\, OR\, 97211
END:VEVENT
BEGIN:VEVENT
DTSTART;TZID=America/Los_Angeles:20211022T070000
DTEND;TZID=America/Los_Angeles:20211022T223000
DTSTAMP:20260425T092720
CREATED:20210806T213913Z
LAST-MODIFIED:20210806T213913Z
UID:488-1634886000-1634941800@bradcreel.com
SUMMARY:Acoustic show at Pizzario in Hillsboro
DESCRIPTION:All ages acoustic show with the full band… and Pizza!
URL:https://bradcreel.com/event/acoustic-show-at-pizzario-in-hillsboro/
LOCATION:Pizzario
END:VEVENT
BEGIN:VEVENT
DTSTART;TZID=America/Los_Angeles:20210902T170000
DTEND;TZID=America/Los_Angeles:20210902T190000
DTSTAMP:20260425T092720
CREATED:20201031T211319Z
LAST-MODIFIED:20210307T231313Z
UID:430-1630602000-1630609200@bradcreel.com
SUMMARY:Brad Creel & The Reel Deel at Wait Park in downtown Canby
DESCRIPTION:This is a fun outdoor\, social distanced event for the whole family in beautiful Wait Park in downtown Canby (just 30 minutes from Portland). The show is part of the Friends of the Canby Public Library Concert Series on First Thursday. We will be playing in the Gazebo! \nSept 2nd\, 2021 (5-7 pm)\nFirst Thursday in Canby\, OR\nall ages\, free\, outdoors
URL:https://bradcreel.com/event/brad-creel-duo-december-11th-2020-mcmenamins-edgefeild-blackberry-hall/
LOCATION:Wait Park\, 300 N Holly St\, Canby\, OR\, 97013\, United States
ATTACH;FMTTYPE=image/jpeg:https://bradcreel.com/wp-content/uploads/2020/04/UNADJUSTEDNONRAW_thumb_9696.jpg
END:VEVENT
BEGIN:VEVENT
DTSTART;TZID=America/Los_Angeles:20210829T170000
DTEND;TZID=America/Los_Angeles:20210829T190000
DTSTAMP:20260425T092720
CREATED:20210806T213301Z
LAST-MODIFIED:20210825T032924Z
UID:481-1630256400-1630263600@bradcreel.com
SUMMARY:Live outside at Taborspace with Joshua English and Misty Mammas
DESCRIPTION:Come on out to this free\, outdoor family event… getting the community together for some music and end of the summer fun.
URL:https://bradcreel.com/event/live-outside-at-taborspace-with-joshua-english-and-misty-mammas/
LOCATION:Taborspace\, 5441 SE Belmont St\, Portland\, OR\, 97215\, United States
END:VEVENT
BEGIN:VEVENT
DTSTART;TZID=America/Los_Angeles:20210824T130000
DTEND;TZID=America/Los_Angeles:20210824T170000
DTSTAMP:20260425T092720
CREATED:20210806T213620Z
LAST-MODIFIED:20210806T213620Z
UID:485-1629810000-1629824400@bradcreel.com
SUMMARY:Live at Cannon Beach Farmers Market
DESCRIPTION:4 sets of live music surrounded by fresh blackberries\, tomatoes\, and an ocean breeze.
URL:https://bradcreel.com/event/live-at-cannon-beach-farmers-market/
LOCATION:Cannon Beach Farmers Market
END:VEVENT
BEGIN:VEVENT
DTSTART;TZID=America/Los_Angeles:20210808T183000
DTEND;TZID=America/Los_Angeles:20210808T203000
DTSTAMP:20260425T092720
CREATED:20210614T203651Z
LAST-MODIFIED:20210614T204114Z
UID:472-1628447400-1628454600@bradcreel.com
SUMMARY:Live at Seaside Brewing
DESCRIPTION:We will be playing outdoors at this all ages venue on the coast… Free show!
URL:https://bradcreel.com/event/live-at-seaside-brewing/
LOCATION:seaside brewing
END:VEVENT
BEGIN:VEVENT
DTSTART;TZID=America/Los_Angeles:20210515T180000
DTEND;TZID=America/Los_Angeles:20210515T210000
DTSTAMP:20260425T092720
CREATED:20210430T181707Z
LAST-MODIFIED:20210430T181951Z
UID:469-1621101600-1621112400@bradcreel.com
SUMMARY:Brad Creel Duo with Joshua English at The Edgefield
DESCRIPTION:Brad Creel and Reel Deel sideman Mike Moore will be splitting 3 sets with the the talented Joshua English. Josh is a Portlnd based singer/songwriter who has toured the US and Europe with his various bands… and is now playing a rare local solo show. His songs are unforgettable and his voice can melt butter! We will be playing outdoors at the Red Shed. All ages welcome and the sho is Free!
URL:https://bradcreel.com/event/brad-creel-duo-with-joshua-english-at-the-edgefield/
LOCATION:McMenamins Edgefield\, 2126 SW Halsey St\, Troutdale\, OR\, 97060\, United States
ATTACH;FMTTYPE=image/jpeg:https://bradcreel.com/wp-content/uploads/2020/10/image.jpeg
END:VEVENT
BEGIN:VEVENT
DTSTART;TZID=America/Los_Angeles:20210320T180000
DTEND;TZID=America/Los_Angeles:20210320T210000
DTSTAMP:20260425T092720
CREATED:20210307T230937Z
LAST-MODIFIED:20210307T230937Z
UID:464-1616263200-1616274000@bradcreel.com
SUMMARY:Brad Creel Duo with Mike Moore at McMenamins Edgefield
DESCRIPTION:Celebrate the end of hibernation with a cold dink and some live music! Brad Creel and sideman Mike Moore will be playing an acoustic show in the Black Rabbit Hall at the Edgefield. Tables are set up for Social distancing.
URL:https://bradcreel.com/event/brad-creel-duo-with-mike-moore-at-mcmenamins-edgefield/
LOCATION:McMenamins Edgefield\, 2126 SW Halsey St\, Troutdale\, OR\, 97060\, United States
ATTACH;FMTTYPE=image/jpeg:https://bradcreel.com/wp-content/uploads/2020/04/UNADJUSTEDNONRAW_thumb_938a.jpg
END:VEVENT
END:VCALENDAR